BEGIN:VCALENDAR
VERSION:2.0
PRODID:-//SCB - ECPv6.15.13.1//NONSGML v1.0//EN
CALSCALE:GREGORIAN
METHOD:PUBLISH
X-WR-CALNAME:SCB
X-ORIGINAL-URL:https://www.scbellinzona.ch
X-WR-CALDESC:Eventi per SCB
REFRESH-INTERVAL;VALUE=DURATION:PT1H
X-Robots-Tag:noindex
X-PUBLISHED-TTL:PT1H
BEGIN:VTIMEZONE
TZID:Europe/Zurich
BEGIN:DAYLIGHT
TZOFFSETFROM:+0100
TZOFFSETTO:+0200
TZNAME:CEST
DTSTART:20190331T010000
END:DAYLIGHT
BEGIN:STANDARD
TZOFFSETFROM:+0200
TZOFFSETTO:+0100
TZNAME:CET
DTSTART:20191027T010000
END:STANDARD
BEGIN:DAYLIGHT
TZOFFSETFROM:+0100
TZOFFSETTO:+0200
TZNAME:CEST
DTSTART:20200329T010000
END:DAYLIGHT
BEGIN:STANDARD
TZOFFSETFROM:+0200
TZOFFSETTO:+0100
TZNAME:CET
DTSTART:20201025T010000
END:STANDARD
BEGIN:DAYLIGHT
TZOFFSETFROM:+0100
TZOFFSETTO:+0200
TZNAME:CEST
DTSTART:20210328T010000
END:DAYLIGHT
BEGIN:STANDARD
TZOFFSETFROM:+0200
TZOFFSETTO:+0100
TZNAME:CET
DTSTART:20211031T010000
END:STANDARD
END:VTIMEZONE
BEGIN:VEVENT
DTSTART;VALUE=DATE:20201010
DTEND;VALUE=DATE:20201012
DTSTAMP:20260421T163739
CREATED:20200816T163224Z
LAST-MODIFIED:20200816T163229Z
UID:410-1602288000-1602460799@www.scbellinzona.ch
SUMMARY:Meeting agility SCB 2020
DESCRIPTION:
URL:https://www.scbellinzona.ch/appuntamenti/meeting-agility-scb/
ATTACH;FMTTYPE=image/jpeg:https://www.scbellinzona.ch/wp-content/uploads/2020/08/volantino_meeting_agility_SCB-2.jpg
END:VEVENT
BEGIN:VEVENT
DTSTART;VALUE=DATE:20201003
DTEND;VALUE=DATE:20201005
DTSTAMP:20260421T163739
CREATED:20200816T162605Z
LAST-MODIFIED:20200816T163330Z
UID:402-1601683200-1601855999@www.scbellinzona.ch
SUMMARY:L'importanza del briefing
DESCRIPTION:Stage di Agility con Alexandre Delrez\n3-4 ottobre 2020\nOrganizzato su 4 mezze giornate\nMassimo 12 partecipanti al giorno (diviso in due gruppi)\nUditori illimitati (gratuiti)\nOrari: 09.00-13.00 / 14.00-18.00\nPagamento sul posto.
URL:https://www.scbellinzona.ch/appuntamenti/limportanza-del-briefing/
LOCATION:Campo cinofila\, Via Campagna 9\, Lumino\, Svizzera
ATTACH;FMTTYPE=image/jpeg:https://www.scbellinzona.ch/wp-content/uploads/2020/08/2020_2021_SCB_Stage_di_agility_Alexandre_Delrez.jpg
ORGANIZER;CN="Tiziana Stacchi":MAILTO:corsi@scbellinzona.ch
END:VEVENT
BEGIN:VEVENT
DTSTART;VALUE=DATE:20200901
DTEND;VALUE=DATE:20201101
DTSTAMP:20260421T163739
CREATED:20200816T190903Z
LAST-MODIFIED:20200816T191259Z
UID:436-1598918400-1604188799@www.scbellinzona.ch
SUMMARY:Corsi di educazione e cittadino a 4 zampe
DESCRIPTION:I prossimi corsi di Educazione e Cittadino a 4 Zampe inizieranno ad inizio settembre 2020 con la lezione di teoria in sede. \nLa data esatta d’inizio vi sarà comunicata circa 2 settimane prima dell’inizio del corso. \nA seguire le lezioni pratiche. \nSono aperte le iscrizioni. \nDesiderate acquistare un cane e volete dei consigli pre-acquisto? I nostri istruttori sono ben lieti di darvi le informazioni necessarie per la scelta migliore del cucciolo. \nScrivete a info@scbellinzona.ch per organizzare l’incontro.
URL:https://www.scbellinzona.ch/appuntamenti/corsi-di-educazione-e-cittadino-a-4-zampe/
ATTACH;FMTTYPE=image/jpeg:https://www.scbellinzona.ch/wp-content/uploads/2020/08/2020_SCB_Cittadino_a_4_zampe_locandina.jpg
END:VEVENT
END:VCALENDAR